BEGIN:VCALENDAR
VERSION:2.0
PRODID:-//Woodland Hills Warner - Center Neighborhood Council | Your most local part of CIty Government - ECPv6.15.20//NONSGML v1.0//EN
CALSCALE:GREGORIAN
METHOD:PUBLISH
X-WR-CALNAME:Woodland Hills Warner - Center Neighborhood Council | Your most local part of CIty Government
X-ORIGINAL-URL:https://whcouncil.org
X-WR-CALDESC:Events for Woodland Hills Warner - Center Neighborhood Council | Your most local part of CIty Government
REFRESH-INTERVAL;VALUE=DURATION:PT1H
X-Robots-Tag:noindex
X-PUBLISHED-TTL:PT1H
BEGIN:VTIMEZONE
TZID:America/Los_Angeles
BEGIN:DAYLIGHT
TZOFFSETFROM:-0800
TZOFFSETTO:-0700
TZNAME:PDT
DTSTART:20240310T100000
END:DAYLIGHT
BEGIN:STANDARD
TZOFFSETFROM:-0700
TZOFFSETTO:-0800
TZNAME:PST
DTSTART:20241103T090000
END:STANDARD
BEGIN:DAYLIGHT
TZOFFSETFROM:-0800
TZOFFSETTO:-0700
TZNAME:PDT
DTSTART:20250309T100000
END:DAYLIGHT
BEGIN:STANDARD
TZOFFSETFROM:-0700
TZOFFSETTO:-0800
TZNAME:PST
DTSTART:20251102T090000
END:STANDARD
BEGIN:DAYLIGHT
TZOFFSETFROM:-0800
TZOFFSETTO:-0700
TZNAME:PDT
DTSTART:20260308T100000
END:DAYLIGHT
BEGIN:STANDARD
TZOFFSETFROM:-0700
TZOFFSETTO:-0800
TZNAME:PST
DTSTART:20261101T090000
END:STANDARD
END:VTIMEZONE
BEGIN:VEVENT
DTSTART;TZID=America/Los_Angeles:20250709T183000
DTEND;TZID=America/Los_Angeles:20250709T210000
DTSTAMP:20260425T083346
CREATED:20240628T015632Z
LAST-MODIFIED:20240628T025121Z
UID:10001419-1752085800-1752094800@whcouncil.org
SUMMARY:Regular Full Board Meeting 7/9/25
DESCRIPTION:Please join us for the regular monthly Board meeting of the Woodland Hills – Warner Center Neighborhood Council \nThe agenda and meeting details will be available here 72 hours in advance of the meeting.
URL:https://whcouncil.org/event/regular-full-board-meeting-2025-07-09/
LOCATION:CA
CATEGORIES:Council Meetings,Full Council
ATTACH;FMTTYPE=image/jpeg:https://whcouncil.org/wp-content/uploads/2024/06/WHWC-Board-ZOOM-1.jpg
END:VEVENT
END:VCALENDAR