BEGIN:VCALENDAR
VERSION:2.0
PRODID:-//Woodland Hills Warner - Center Neighborhood Council | Your most local part of CIty Government - ECPv6.15.20//NONSGML v1.0//EN
CALSCALE:GREGORIAN
METHOD:PUBLISH
X-ORIGINAL-URL:https://whcouncil.org
X-WR-CALDESC:Events for Woodland Hills Warner - Center Neighborhood Council | Your most local part of CIty Government
REFRESH-INTERVAL;VALUE=DURATION:PT1H
X-Robots-Tag:noindex
X-PUBLISHED-TTL:PT1H
BEGIN:VTIMEZONE
TZID:America/Los_Angeles
BEGIN:DAYLIGHT
TZOFFSETFROM:-0800
TZOFFSETTO:-0700
TZNAME:PDT
DTSTART:20250309T100000
END:DAYLIGHT
BEGIN:STANDARD
TZOFFSETFROM:-0700
TZOFFSETTO:-0800
TZNAME:PST
DTSTART:20251102T090000
END:STANDARD
BEGIN:DAYLIGHT
TZOFFSETFROM:-0800
TZOFFSETTO:-0700
TZNAME:PDT
DTSTART:20260308T100000
END:DAYLIGHT
BEGIN:STANDARD
TZOFFSETFROM:-0700
TZOFFSETTO:-0800
TZNAME:PST
DTSTART:20261101T090000
END:STANDARD
BEGIN:DAYLIGHT
TZOFFSETFROM:-0800
TZOFFSETTO:-0700
TZNAME:PDT
DTSTART:20270314T100000
END:DAYLIGHT
BEGIN:STANDARD
TZOFFSETFROM:-0700
TZOFFSETTO:-0800
TZNAME:PST
DTSTART:20271107T090000
END:STANDARD
END:VTIMEZONE
BEGIN:VEVENT
DTSTART;TZID=America/Los_Angeles:20260211T183000
DTEND;TZID=America/Los_Angeles:20260211T213000
DTSTAMP:20260423T131715
CREATED:20260207T231957Z
LAST-MODIFIED:20260215T020457Z
UID:10001588-1770834600-1770845400@whcouncil.org
SUMMARY:Cancelled-WHWCNC Regular Board Meeting
DESCRIPTION:Based on the direction of the Department of Neighborhood Empowerment (DONE) this meeting had to be cancelled at the last minute.\n2-11-2026 WHWCNC Board Agenda\n        \n                                    \n                        \n                            \n\n\n\n2-11-2026 WHWCNC Board Supplemetal\n        \n                                    \n                        \n                            \n\n\n\n2-11-2026 WHWCNC Treasurer’s MER Report
URL:https://whcouncil.org/event/whwcnc-regular-board-meeting-5/
LOCATION:https://us02web.zoom.us/j/88186236341
CATEGORIES:Full Council
END:VEVENT
BEGIN:VEVENT
DTSTART;TZID=America/Los_Angeles:20260217T183000
DTEND;TZID=America/Los_Angeles:20260217T213000
DTSTAMP:20260423T131715
CREATED:20260214T220117Z
LAST-MODIFIED:20260225T233046Z
UID:10001593-1771353000-1771363800@whcouncil.org
SUMMARY:CANCELED: Special Full Board Meeting on Zoom
DESCRIPTION:The meeting is cancelled.\nCancelled Board Agenda\n        \n                                    \n                        \n                            \n\n\n\nTreasurer’s Report  (MER)\n        \n                                    \n                        \n                            \n\n\nSupplemental Documents
URL:https://whcouncil.org/event/special-full-board-meeting-on-zoom/
LOCATION:ZOOM\, NONE\, NONE\, CA\, NONE\, United States
CATEGORIES:Council Meetings,Full Council
GEO:37.0982847;-122.0979399
X-APPLE-STRUCTURED-LOCATION;VALUE=URI;X-ADDRESS=ZOOM NONE NONE CA NONE United States;X-APPLE-RADIUS=500;X-TITLE=NONE:geo:-122.0979399,37.0982847
END:VEVENT
END:VCALENDAR