BEGIN:VCALENDAR
VERSION:2.0
PRODID:-//Woodland Hills Warner - Center Neighborhood Council | Your most local part of CIty Government - ECPv6.15.20//NONSGML v1.0//EN
CALSCALE:GREGORIAN
METHOD:PUBLISH
X-WR-CALNAME:Woodland Hills Warner - Center Neighborhood Council | Your most local part of CIty Government
X-ORIGINAL-URL:https://whcouncil.org
X-WR-CALDESC:Events for Woodland Hills Warner - Center Neighborhood Council | Your most local part of CIty Government
REFRESH-INTERVAL;VALUE=DURATION:PT1H
X-Robots-Tag:noindex
X-PUBLISHED-TTL:PT1H
BEGIN:VTIMEZONE
TZID:America/Los_Angeles
BEGIN:DAYLIGHT
TZOFFSETFROM:-0800
TZOFFSETTO:-0700
TZNAME:PDT
DTSTART:20240310T100000
END:DAYLIGHT
BEGIN:STANDARD
TZOFFSETFROM:-0700
TZOFFSETTO:-0800
TZNAME:PST
DTSTART:20241103T090000
END:STANDARD
BEGIN:DAYLIGHT
TZOFFSETFROM:-0800
TZOFFSETTO:-0700
TZNAME:PDT
DTSTART:20250309T100000
END:DAYLIGHT
BEGIN:STANDARD
TZOFFSETFROM:-0700
TZOFFSETTO:-0800
TZNAME:PST
DTSTART:20251102T090000
END:STANDARD
BEGIN:DAYLIGHT
TZOFFSETFROM:-0800
TZOFFSETTO:-0700
TZNAME:PDT
DTSTART:20260308T100000
END:DAYLIGHT
BEGIN:STANDARD
TZOFFSETFROM:-0700
TZOFFSETTO:-0800
TZNAME:PST
DTSTART:20261101T090000
END:STANDARD
END:VTIMEZONE
BEGIN:VEVENT
DTSTART;TZID=America/Los_Angeles:20250301T080000
DTEND;TZID=America/Los_Angeles:20250301T100000
DTSTAMP:20260425T154051
CREATED:20250227T220515Z
LAST-MODIFIED:20250227T220515Z
UID:10001487-1740816000-1740823200@whcouncil.org
SUMMARY:First Saturdays Neighborhood Cleanup 3/1/25
DESCRIPTION:The WHWCNC Environmental Committee and friends will be meeting on Saturday March 1st to beautify Woodland Hills.\n\nPlease meet at Shoup/Burbank\, from 8am-10am\, to help cleanup some street trees along Shoup Blvd.\n\nTools will be provided.  Please bring gloves\, wear long pants and closed-toes shoes.\nAfterwards\, go enjoy the Woodland Hills Farmers Market to help support our community.
URL:https://whcouncil.org/event/first-saturdays-neighborhood-cleanup-3-1-25/
CATEGORIES:Environment & Beautification
ATTACH;FMTTYPE=image/jpeg:https://whcouncil.org/wp-content/uploads/2025/02/1st-Saturdays-1.jpg
END:VEVENT
END:VCALENDAR