BEGIN:VCALENDAR
VERSION:2.0
PRODID:-//Woodland Hills Warner - Center Neighborhood Council | Your most local part of CIty Government - ECPv6.15.20//NONSGML v1.0//EN
CALSCALE:GREGORIAN
METHOD:PUBLISH
X-WR-CALNAME:Woodland Hills Warner - Center Neighborhood Council | Your most local part of CIty Government
X-ORIGINAL-URL:https://whcouncil.org
X-WR-CALDESC:Events for Woodland Hills Warner - Center Neighborhood Council | Your most local part of CIty Government
REFRESH-INTERVAL;VALUE=DURATION:PT1H
X-Robots-Tag:noindex
X-PUBLISHED-TTL:PT1H
BEGIN:VTIMEZONE
TZID:America/Los_Angeles
BEGIN:DAYLIGHT
TZOFFSETFROM:-0800
TZOFFSETTO:-0700
TZNAME:PDT
DTSTART:20240310T100000
END:DAYLIGHT
BEGIN:STANDARD
TZOFFSETFROM:-0700
TZOFFSETTO:-0800
TZNAME:PST
DTSTART:20241103T090000
END:STANDARD
BEGIN:DAYLIGHT
TZOFFSETFROM:-0800
TZOFFSETTO:-0700
TZNAME:PDT
DTSTART:20250309T100000
END:DAYLIGHT
BEGIN:STANDARD
TZOFFSETFROM:-0700
TZOFFSETTO:-0800
TZNAME:PST
DTSTART:20251102T090000
END:STANDARD
BEGIN:DAYLIGHT
TZOFFSETFROM:-0800
TZOFFSETTO:-0700
TZNAME:PDT
DTSTART:20260308T100000
END:DAYLIGHT
BEGIN:STANDARD
TZOFFSETFROM:-0700
TZOFFSETTO:-0800
TZNAME:PST
DTSTART:20261101T090000
END:STANDARD
END:VTIMEZONE
BEGIN:VEVENT
DTSTART;TZID=America/Los_Angeles:20250607T080000
DTEND;TZID=America/Los_Angeles:20250607T100000
DTSTAMP:20260424T041530
CREATED:20250607T004520Z
LAST-MODIFIED:20250607T004520Z
UID:10001516-1749283200-1749290400@whcouncil.org
SUMMARY:1st Saturday Clean-up
DESCRIPTION:We were planning a clean-up on Topanga Cyn/Mulholland and much to our surprise (and happiness!)\, we saw that the City has already removed the weeds and made that corner presentable. So there will be no “official” cleanup this weekend. Looks like our effort to beautify Woodland Hills is starting to affect others!\n\n\n \n\n\nHowever\, if interested in removing graffiti in our West Valley\, the WV Chamber of Commerce will be at 5445 Balboa Blvd\, in Encino\, just south of the 101 Fwy. This is a painting project\, so please dress appropriately. 8am-10am
URL:https://whcouncil.org/event/1st-saturday-clean-up/
CATEGORIES:Environment & Beautification
ATTACH;FMTTYPE=image/png:https://whcouncil.org/wp-content/uploads/2025/06/1st-Saturdays-2.png
END:VEVENT
END:VCALENDAR