BEGIN:VCALENDAR
VERSION:2.0
PRODID:-//Woodland Hills Warner - Center Neighborhood Council | Your most local part of CIty Government - ECPv6.15.20//NONSGML v1.0//EN
CALSCALE:GREGORIAN
METHOD:PUBLISH
X-ORIGINAL-URL:https://whcouncil.org
X-WR-CALDESC:Events for Woodland Hills Warner - Center Neighborhood Council | Your most local part of CIty Government
REFRESH-INTERVAL;VALUE=DURATION:PT1H
X-Robots-Tag:noindex
X-PUBLISHED-TTL:PT1H
BEGIN:VTIMEZONE
TZID:America/Los_Angeles
BEGIN:DAYLIGHT
TZOFFSETFROM:-0800
TZOFFSETTO:-0700
TZNAME:PDT
DTSTART:20190310T100000
END:DAYLIGHT
BEGIN:STANDARD
TZOFFSETFROM:-0700
TZOFFSETTO:-0800
TZNAME:PST
DTSTART:20191103T090000
END:STANDARD
BEGIN:DAYLIGHT
TZOFFSETFROM:-0800
TZOFFSETTO:-0700
TZNAME:PDT
DTSTART:20200308T100000
END:DAYLIGHT
BEGIN:STANDARD
TZOFFSETFROM:-0700
TZOFFSETTO:-0800
TZNAME:PST
DTSTART:20201101T090000
END:STANDARD
BEGIN:DAYLIGHT
TZOFFSETFROM:-0800
TZOFFSETTO:-0700
TZNAME:PDT
DTSTART:20210314T100000
END:DAYLIGHT
BEGIN:STANDARD
TZOFFSETFROM:-0700
TZOFFSETTO:-0800
TZNAME:PST
DTSTART:20211107T090000
END:STANDARD
END:VTIMEZONE
BEGIN:VEVENT
DTSTART;TZID=America/Los_Angeles:20200303T183000
DTEND;TZID=America/Los_Angeles:20200303T200000
DTSTAMP:20260424T002226
CREATED:20200301T022836Z
LAST-MODIFIED:20200301T022836Z
UID:10000805-1583260200-1583265600@whcouncil.org
SUMMARY:Education Committee Meeting 3 March 2020
DESCRIPTION:This a public meeting of the Education Committee on Mar 3\, 2020 \, \nEDUCATION COMMITTEE MEETING AGENDA \nTuesday\, March 3\, 2020 – 6:30 – 7:50 pm \nWoodland Hills Library\, 22200 Ventura Boulevard\, Woodland Hills\, CA 91364 \nStakeholders and the public are permitted to address the Committee on any item on the Agenda prior to the Committee taking action on said item. It is requested speakers complete a “Speaker Card” and hand it to the Chair. Comments from Stakeholders and the Public on Agenda items will be heard only when the respective item is being considered. Comments within the Committee’s subject matter jurisdiction on other not appearing on the Agenda will be heard during the Public Comment period. Public Comment is limited to 15 minutes. Each speaker is limited to two minutes\, unless waived by the presiding officer of the Committee. Opinions\, positions or actions taken by the Woodland Hills-Warner Center Neighborhood Council do not represent or imply similar opinions held by the Owner\, Landlord\, L.A.U.S.D\, Business or representatives of any venue hosting a meeting of the Council Board\, or Committee. \nCommittee Members: Bill Anderson (Chair); John Sandy Campbell; Dan Chernow\, EdD; Paul Lawler; Doug Marriott\, EdD; Ginny Sands; Gina Thornburg\, PhD. \n\nCall to Order\nPledge\nRoll Call\nApproval of Minutes\, December 3\, 2019 Committee Meeting\nGeneral Public Comment: Items not on the Agenda (15 minutes) \n\nCOMMITTEE AGENDA ITEMS:  \nItems for discussion and possible vote: \n\n“Meet the Principals” Outreach Program\n\n\nHale Traffic Problem\nF/U with non-responding Principals\nOther\n\n       2. Pierce College Brahma Pantry  \n\nPierce Foundation Donation Requirements\nPossible Refrigerator Need\nProject Viability with the City of Los Angeles\n\n      3. LAUSD Hygiene Project \n\nProject Viability with the City of Los Angeles\nPossible Sisters on the Street Involvement\nTaft Foundation Contact\nPossible involvement of Rotary\n\n\nWest Valley Occupational Center \n\n\nReview of HiSet Program\nDiscussion of possible NPG support of HiSet on-line examinations.\nOther\n\n\nPending Education Legislation Tracking\n\n\nReport on new education related legislative initiatives in play\n\n\nCommittee Administrative Discussion \n\n\nResignation of Aaron Williams\nPossible Girl Scout Membership Support Project\nDiscussion of FY 2021 Budget\nOther\n\n\nNew Business\n\nAdjournment of meeting:  \nThe American With Disabilities Act – As a covered entity under Title II of the Americans with Disabilities Act\, the City of Los Angeles does not discriminate on the basis of disability and\, upon request\, will provide reasonable accommodation to ensure equal access to its programs\, services and activities. Sign language interpreters\, assistive listening devices and other auxiliary aids and/or services\, may be provided upon request. To ensure availability of services\, please make your request at least 3 business days (72 hours) prior to the meeting you wish to attend by contacting Joyce Fletcher\, at (818- 340-6554 or email j.fletcher@whcouncil.org or the Department of Neighborhood Empowerment at (213) 978-1551 EmpowerLa@LACity.org \nPublic Access of Records – In compliance with Government Code section 54957.5\, non- exempt writings that are distributed to a majority or all of the committee in advance of a meeting may be viewed at our website: www.whcouncil.org or at the scheduled meeting. In addition\, if you would like a copy of any record related to an item on the agenda\, please contact Joyce Fletcher at (818) 340-6554 or email j.fletcher@whcouncil.org \nPublic Posting of Agendas – agendas are posted for public review as follows:  \nwww.whcouncil.org – go to the website Calendar page and click on the date – Board meetings are held on the second Wednesday of each month. The Education Committee meets the first Tuesday of each month. Check the calendar page for any change of meeting date.  \nYou can also receive our agendas via email by subscribing to L.A. City’s Early Notification System at https://www.lacity.org/subscriptions \nReconsideration and Grievous Process – For information on the WHWCNC process for board action reconsideration\, stakeholder grievance policy\, or any other procedural matters related to this Council\, please consult the WHWCNC Bylaws. The Bylaws are available at our Board meetings and our website at www.whcouncil.org \n 
URL:https://whcouncil.org/event/education-committee-meeting-3-march-2020/
LOCATION:Woodland Hills Public Library\, Upper Room\, 22200 Ventura Blvd.\, Woodland Hills\, CA\, 91364\, United States
CATEGORIES:Education
ATTACH;FMTTYPE=image/jpeg:https://whcouncil.org/wp-content/uploads/2016/11/Education_sq_68949462.jpg
GEO:34.1678825;-118.6106854
X-APPLE-STRUCTURED-LOCATION;VALUE=URI;X-ADDRESS=Woodland Hills Public Library Upper Room 22200 Ventura Blvd. Woodland Hills CA 91364 United States;X-APPLE-RADIUS=500;X-TITLE=22200 Ventura Blvd.:geo:-118.6106854,34.1678825
END:VEVENT
END:VCALENDAR