BEGIN:VCALENDAR
VERSION:2.0
PRODID:-//Woodland Hills Warner - Center Neighborhood Council | Your most local part of CIty Government - ECPv6.15.20//NONSGML v1.0//EN
CALSCALE:GREGORIAN
METHOD:PUBLISH
X-ORIGINAL-URL:https://whcouncil.org
X-WR-CALDESC:Events for Woodland Hills Warner - Center Neighborhood Council | Your most local part of CIty Government
REFRESH-INTERVAL;VALUE=DURATION:PT1H
X-Robots-Tag:noindex
X-PUBLISHED-TTL:PT1H
BEGIN:VTIMEZONE
TZID:America/Los_Angeles
BEGIN:DAYLIGHT
TZOFFSETFROM:-0800
TZOFFSETTO:-0700
TZNAME:PDT
DTSTART:20250309T100000
END:DAYLIGHT
BEGIN:STANDARD
TZOFFSETFROM:-0700
TZOFFSETTO:-0800
TZNAME:PST
DTSTART:20251102T090000
END:STANDARD
BEGIN:DAYLIGHT
TZOFFSETFROM:-0800
TZOFFSETTO:-0700
TZNAME:PDT
DTSTART:20260308T100000
END:DAYLIGHT
BEGIN:STANDARD
TZOFFSETFROM:-0700
TZOFFSETTO:-0800
TZNAME:PST
DTSTART:20261101T090000
END:STANDARD
BEGIN:DAYLIGHT
TZOFFSETFROM:-0800
TZOFFSETTO:-0700
TZNAME:PDT
DTSTART:20270314T100000
END:DAYLIGHT
BEGIN:STANDARD
TZOFFSETFROM:-0700
TZOFFSETTO:-0800
TZNAME:PST
DTSTART:20271107T090000
END:STANDARD
END:VTIMEZONE
BEGIN:VEVENT
DTSTART;TZID=America/Los_Angeles:20260420T183000
DTEND;TZID=America/Los_Angeles:20260420T210000
DTSTAMP:20260423T123042
CREATED:20260418T143948Z
LAST-MODIFIED:20260418T143948Z
UID:10001613-1776709800-1776718800@whcouncil.org
SUMMARY:Special Community Services Meeting
DESCRIPTION:Community Services Committee\nMembers\nJoyce Fletcher\, Chair\nKaren Di Biase\nKate Kennedy\nJulian Tu\nCITY OF LOS ANGELES\nCALIFORNIA\nWOODLAND HILLS\nWARNER CENTER\nNEIGHBORHOOD\nCOUNCIL\nSpecial – Community Services\nCommittee Meeting Agenda \nCommunity Services Agendas – April 20\, 2026 (Special Meeting)\nMonday\, April 20\, 2026\n6:15 pm to 8:45pm\nLocated at Capital One Café\nIn the Meeting Room\nInside the Westfield Topanga Mall\nDownstairs Near Nordstrom\nSi requiere servicios de traducción\, favor de avisar al Concejo Vecinal 3 días de trabajo (72 horas) antes\ndel evento. Por favor contacte a Joyce Fletcher de la Mesa Directiva\, j.fletcher@whcouncil.org o por\ncorreo electrónico avisar al Concejo Vecinal.\nGENERAL PUBLIC COMMENT ON ITEMS NOT ON THE AGENDA – Two-minute comments\nfrom the public on other matters not appearing on the agenda that are within the Board’s jurisdiction will\nbe heard during the General Public Comment period. Please note that under the Brown Act\, the Board is\nprevented from acting on a matter that you bring to its attention during the General Public Comment\nperiod; however\, the issue raised by a member of the public may become the subject of a future Committee\nmeeting. Public comment for items on the agenda is limited to two (2) minutes per speaker\, unless adjusted\nby the presiding officer of the Committee.\nI. CALL TO ORDER AND COMMITTEE ROLL CALL\nMembers: Joyce Fletcher-Chair\, Karen DiBiase\, Kate Kennedy\, Julian Tu\nII. APPROVAL OF MINUTES – February 2\, 2026\nMarch 30\, 2026 – Special Meeting\nIII. PUBLIC COMMENT ON ITEMS ON THE AGENDA – Comments will be heard when the\nagenda item is called by the Chair of the committee.\nEach speaker will also be allowed a two (2) minute comment on each agenda item. \nWebsite:whcouncil.org\nIV. AGENDA ITEMS\nFor discussion and possible action:\n1. (CIS) Community Impact Statement – Council File: 26-0548\nTitle E-bikes\, E-motos\, and Electric Mopeds / Increase Safety and Welfare of Los Angeles Residents\n2. (CIS) Community Impact Statement – Council File: 25-0002-S99\nTitle SB 1266 (Stern) / Valuation / Stolen Copper Wire / Comprehensive Cost / 2025-2026 Legislative\nProgram\n3. Logistics – 5th Annual Valley Asian Pacific Islander Cultural Festival May 2\, 2026\n4. Committee Budget requests and activities by the end of fiscal year June 30\, 2026\n5. Committee meetings dates\, plans\, activities and requests for fiscal year 2026/2027.\n6. New Business – to be discussed at the next committee meeting.\nADJOURNMENT\nAs a covered entity under Title II of the Americans with Disabilities Act\, the City of Los Angeles\ndoes not discriminate on the basis of disability and upon request will provide reasonable\naccommodation to ensure equal access to its programs\, services\, and activities. Sign language\ninterpreters\, assistive listening devices\, or other auxiliary aids and/or services may be provided upon\nrequest. To ensure availability of services\, please make your request at least 3 business days (72\nhours) prior to the meeting by contacting the Department of Neighborhood Empowerment by calling\n(213) 978-1551 or email: NCsupport@lacity.org\nPublic Posting of Agendas\nThe Community Services Committee meets on the 1st and 3rd Monday of each month. However\,\nvisit our website calendar page at whcouncil.org\, to review all committee meeting dates\, as the\ndate may change. Neighborhood Council agendas are posted for public review as follows:\nFire Station 84 front window\, located at 21050 Burbank Blvd. Woodland Hills CA 91367\nOn the Woodland Hills-Warner Center Neighborhood Council website at calendar page at\nwww.whcouncil.org You can also receive our agendas via email by subscribing to L.A. City’s Early\nNotification System (ENS)\nNotice to Paid Representatives\nIf you are compensated to monitor\, attend\, or speak at this meeting\, City law may require you to register\nas a lobbyist and report your activity. See Los Angeles Municipal Code Section 48.01 et seq.\nMore information is available at ethics.lacity.org/lobbying. For assistance\, please contact the\nEthics Commission at (213) 978-1960 or ethics.commission@lacity.org\nPublic Access of Records\nIn compliance with Government Code section 54957.5\, non-exempt writings that are distributed to a majority or all the\nboard in advance of a meeting may be viewed at our website: www.whcouncil.org or\nat the scheduled meeting. In addition\, if you would like a copy of any record related to an item on the agenda\, please get\nin touch with Secretary Joyce Fletcher by email to j.fletcher@whcouncil.org\nReconsideration and Grievance Process\nFor information on the NC’s process for board action reconsideration\, stakeholder grievance policy\, or any other\nprocedural matters related to this Council\, please consult the NC Bylaws. The Bylaws are available at our Board meetings\nand on our website www.whcouncil.org.
URL:https://whcouncil.org/event/special-community-services-meeting/
LOCATION:Community Room\, Capital One Cafe\, 6600 CA-27 Suite 1038 Suite 103\, Canoga Park\, CA\, 91303\, United States
CATEGORIES:Community Services
GEO:34.1900362;-118.6035049
X-APPLE-STRUCTURED-LOCATION;VALUE=URI;X-ADDRESS=Community Room Capital One Cafe 6600 CA-27 Suite 1038 Suite 103 Canoga Park CA 91303 United States;X-APPLE-RADIUS=500;X-TITLE=6600 CA-27 Suite 1038 Suite 103:geo:-118.6035049,34.1900362
END:VEVENT
END:VCALENDAR