BEGIN:VCALENDAR
VERSION:2.0
PRODID:-//Woodland Hills Warner - Center Neighborhood Council | Your most local part of CIty Government - ECPv6.15.20//NONSGML v1.0//EN
CALSCALE:GREGORIAN
METHOD:PUBLISH
X-ORIGINAL-URL:https://whcouncil.org
X-WR-CALDESC:Events for Woodland Hills Warner - Center Neighborhood Council | Your most local part of CIty Government
REFRESH-INTERVAL;VALUE=DURATION:PT1H
X-Robots-Tag:noindex
X-PUBLISHED-TTL:PT1H
BEGIN:VTIMEZONE
TZID:America/Los_Angeles
BEGIN:DAYLIGHT
TZOFFSETFROM:-0800
TZOFFSETTO:-0700
TZNAME:PDT
DTSTART:20240310T100000
END:DAYLIGHT
BEGIN:STANDARD
TZOFFSETFROM:-0700
TZOFFSETTO:-0800
TZNAME:PST
DTSTART:20241103T090000
END:STANDARD
BEGIN:DAYLIGHT
TZOFFSETFROM:-0800
TZOFFSETTO:-0700
TZNAME:PDT
DTSTART:20250309T100000
END:DAYLIGHT
BEGIN:STANDARD
TZOFFSETFROM:-0700
TZOFFSETTO:-0800
TZNAME:PST
DTSTART:20251102T090000
END:STANDARD
BEGIN:DAYLIGHT
TZOFFSETFROM:-0800
TZOFFSETTO:-0700
TZNAME:PDT
DTSTART:20260308T100000
END:DAYLIGHT
BEGIN:STANDARD
TZOFFSETFROM:-0700
TZOFFSETTO:-0800
TZNAME:PST
DTSTART:20261101T090000
END:STANDARD
END:VTIMEZONE
BEGIN:VEVENT
DTSTART;TZID=America/Los_Angeles:20250407T180000
DTEND;TZID=America/Los_Angeles:20250407T200000
DTSTAMP:20260424T093617
CREATED:20250404T200853Z
LAST-MODIFIED:20250404T201114Z
UID:10001503-1744048800-1744056000@whcouncil.org
SUMMARY:Community Services Committee Meeting
DESCRIPTION:  \n  \nCommunity Services Committee Members \nJoyce Fletcher\, Chair                               Karen Di Biase \nKate Kennedy \nJulian Tu \n  \n  \n  \nWOODLAND HILLS \n WARNER CENTER   \nNEIGHBORHOOD COUNCIL \n  \nEmail: NCsupport@lacity.org \nWebsite: www.empowerla.org \n  \nCommunity Services Committee Meeting Agenda \n    Monday\, April 7\, 2025  \n          6pm to 7:45pm \n Click for Agenda \n            Located at the \nCommunity Room\, Capital One Café \ninside Westfield Topanga Mall – First Floor near Nordstrom \n6600 Topanga Canyon Boulevard\, 1038\, Los Angeles\, CA 91303 \n  \nSi requiere servicios de traducción\, favor de avisar al Concejo Vecinal 3 días de trabajo (72 horas) antes del evento. Por favor contacte a Dena Weiss de la Mesa Directiva\, d.weiss@whcouncil.org o por correo electrónico avisar al Concejo Vecinal. \nComments from the public on other matters not appearing on the agenda that are within the Board’s jurisdiction will be heard during the General Public Comment period. Please note that under the Brown Act\, the Board is prevented from acting on a matter that you bring to its attention during the General Public Comment period; however\, the issue raised by a member of the public may become the subject of a future Board meeting. Public comment is limited to two (2) minutes per speaker\, unless adjusted by the presiding officer of the Board. \n  \nI.                CALL TO ORDER AND COMMITTEE ROLL CALL\nMembers: Joyce Fletcher-Chair\, Karen DiBiase\, Kate Kennedy\, Julian Tu\n  \n\nAPPROVAL OF MINUTES – March 3\, 2025\n\n                                            March 17\, 2025 – was not held due to St. Patrick’s Day \n                                                                                                                  \n  \n\nGENERAL PUBLIC COMMENT – Comments from the public on non-agenda items that are within the WHWCNC’s Board jurisdiction and within the committee’s jurisdiction.\n\nEach speaker will be allowed two (2) minute(s). \n  \n\nAGENDA ITEMS\n\n  \nFor discussion and possible action: \n  \n\nDiscussion of plans for NC participation in the Chamber of Commerce Asian Fair on May 10th.\n\n  \n\n2. Discussion and possible action related to neighborhood issues and concerns.\nCasalena and request for no parking signs on neighborhood streets.\nUpdate on Warner Center Park upgrades.\nRequest for May 14th Board Meeting – (30) minute Presentation and Q & A by Councilmember Bob Blumenfield on local issues In Woodland Hills.\n\n  \n\n   Discussion and possible action related to stakeholder participation at WHWCNC Board meetings and\n\nassurance that board meetings are conducted in a manner that best serves the needs of the community \nand all stakeholders attending WHWCNC meetings. \n  \n\nCommittee request to the WHWCNC Governance Committee and EmpowerLa to define for the Board\n\nat the May 14th Board Meeting when and if Roberts Rules of Order can override WHWCNC Bylaws\, Standing Rules and Best Practices and override a Board Meeting Agenda as written or a committee agenda as written and publicly posted. \nRequest the Governance Committee for the May 14th Board meeting submit a clarifying Standing Rule to be voted on by the board and implemented. \n  \n\nAs the Standing Rules Ad hoc Committee has never met\, a committee request to the Governance\n\nCommittee that the current revised Standing Rules 2022 be submitted by the Governance Committee to \nthe board on May 14th to be immediately approved. The Standing Rules can be improved and other rules written by the Ad hoc Committee\, at a later date\, as Standing Rules can be added to and voted on at any time. \n  \n\nCommittee request to the Governance Committee and EmpowerLA to provide written information to\n\nbe provided to the board members at the May 14th Board Meeting that clearly describes other Censure Policy requirements\, legal prerequisites or other possible reasons that may cause a Censure to be denied by EmpowerLA and the City\, that are not described in the Censure Policy in the WHWCNC Bylaws. \nRequest the Governance Committee by May 14th create a Standing Rule that fully describes these other requirements\, legal prerequisites and all other possible reasons or actions that must be a part of filing a valid and City acceptable Censure that are not described in the Bylaws Censure Policy. \n  \n\n4. Discussion about ways to support diversity\, seniors\, veterans and LGBTQ neighbors in our community.\n\n  \n\n5. Discussion about events and committee goals for fiscal year 2024/2025.\n\n  \n\n6. New Business – for discussion and possible action at the next committee meeting.\n\n  \n  \nADJOURNMENT  \n  \nAs a covered entity under Title II of the Americans with Disabilities Act\, the City of Los Angeles does \nnot discriminate on the basis of disability and upon request will provide reasonable accommodation \nto ensure equal access to its programs\, services\, and activities. Sign language interpreters\, assistive \nlistening devices\, or other auxiliary aids and/or services may be provided upon request. To ensure \navailability of services\, please make your request at least 3 business days (72 hours) prior to the \nmeeting by contacting the Department of Neighborhood Empowerment by calling (213) 978-1551 \nor email: NCsupport@lacity.org \n  \n  \n  \n  \n  \nPublic Posting of Agendas  \n  \nThe Community Services Committee meets on the 1st and 3rd Monday of each month. However\, visit our  \nwebsite calendar page at whcouncil.org\, to review all committee meeting dates\, as a date may change. \nNeighborhood Council agendas are posted for public review as follows: \nFire Station 84 front window located at 21050 Burbank Blvd. Woodland Hills CA 91367. \nOn the Woodland Hills-Warner Center Neighborhood Council website at calendar page at www.whcouncil.org \nYou can also receive our agendas via email by subscribing to L.A. City’s Early Notification System (ENS) \n  \nNotice to Paid Representatives  \nIfyouarecompensatedtomonitor\,attend\,orspeakatthismeeting\,Citylawmayrequireyoutoregister asalobbyistandreportyouractivity.SeeLosAngelesMunicipalCodeSection48.01etseq. \nMore information is available at ethics.lacity.org/lobbying. For assistance\, please contact the Ethics Commission at (213) 978-1960 or ethics.commission@lacity.org \n  \nPublic Access of Records  \nIn compliance with Government Code section 54957.5\, non-exempt writings that are distributed to a majority or all the board in advance of a meeting may be viewed at our website: www.whcouncil.org or at the scheduled meeting. In addition\, if you would like a copy of any record related to an item on the agenda\, please get in touch with Dena Weiss by email to d.weiss@whcouncil.org \n  \nReconsideration and Grievance Process  \nFor information on the NC’s process for board action reconsideration\, stakeholder grievance policy\, or any other procedural matters related to this Council\, please consult the NC Bylaws. The Bylaws are available at our Board meetings and our website www.whcouncil.org.
URL:https://whcouncil.org/event/community-services-committee-meeting-35/
LOCATION:Community Room\, Capital One Cafe\, 6600 CA-27 Suite 1038 Suite 103\, Canoga Park\, CA\, 91303\, United States
CATEGORIES:Community Services
GEO:34.1900362;-118.6035049
X-APPLE-STRUCTURED-LOCATION;VALUE=URI;X-ADDRESS=Community Room Capital One Cafe 6600 CA-27 Suite 1038 Suite 103 Canoga Park CA 91303 United States;X-APPLE-RADIUS=500;X-TITLE=6600 CA-27 Suite 1038 Suite 103:geo:-118.6035049,34.1900362
END:VEVENT
END:VCALENDAR