BEGIN:VCALENDAR
VERSION:2.0
PRODID:-//Woodland Hills Warner - Center Neighborhood Council | Your most local part of CIty Government - ECPv6.15.20//NONSGML v1.0//EN
CALSCALE:GREGORIAN
METHOD:PUBLISH
X-ORIGINAL-URL:https://whcouncil.org
X-WR-CALDESC:Events for Woodland Hills Warner - Center Neighborhood Council | Your most local part of CIty Government
REFRESH-INTERVAL;VALUE=DURATION:PT1H
X-Robots-Tag:noindex
X-PUBLISHED-TTL:PT1H
BEGIN:VTIMEZONE
TZID:America/Los_Angeles
BEGIN:DAYLIGHT
TZOFFSETFROM:-0800
TZOFFSETTO:-0700
TZNAME:PDT
DTSTART:20190310T100000
END:DAYLIGHT
BEGIN:STANDARD
TZOFFSETFROM:-0700
TZOFFSETTO:-0800
TZNAME:PST
DTSTART:20191103T090000
END:STANDARD
BEGIN:DAYLIGHT
TZOFFSETFROM:-0800
TZOFFSETTO:-0700
TZNAME:PDT
DTSTART:20200308T100000
END:DAYLIGHT
BEGIN:STANDARD
TZOFFSETFROM:-0700
TZOFFSETTO:-0800
TZNAME:PST
DTSTART:20201101T090000
END:STANDARD
BEGIN:DAYLIGHT
TZOFFSETFROM:-0800
TZOFFSETTO:-0700
TZNAME:PDT
DTSTART:20210314T100000
END:DAYLIGHT
BEGIN:STANDARD
TZOFFSETFROM:-0700
TZOFFSETTO:-0800
TZNAME:PST
DTSTART:20211107T090000
END:STANDARD
END:VTIMEZONE
BEGIN:VEVENT
DTSTART;TZID=America/Los_Angeles:20200722T190000
DTEND;TZID=America/Los_Angeles:20200722T203000
DTSTAMP:20260424T040641
CREATED:20200719T210018Z
LAST-MODIFIED:20200719T235124Z
UID:10000780-1595444400-1595449800@whcouncil.org
SUMMARY:WHWCNC Community Outreach Meeting Teleconference
DESCRIPTION:AGENDA – COMMUNITY OUTREACH COMMITTEE MEETING\nWednesday\, July 22\, 2020 – 7:15 pm\nVIRTUAL MEETING BY TELECONFERENCE \nClick For Agenda \nVIRTUAL MEETING TELECONFERENCING and PHONE NUMBER FOR PUBLIC PARTICIPATION\nIn conformity with the Governor’s Executive Order N-29-20 (MARCH 17\, 2020) and due to concerns over COVID-19\,\nthe Woodland Hills-Warner Center Neighborhood Council meetings will be conducted entirely telephonically.\nEvery person wishing to address the Neighborhood Council must dial +1 669 900 6833\, and enter Zoom ID\nNo. 988 5536 5609 and then press # to join the meeting. Instructions on how to sign up for public comment\nwill be given to listeners at the start of the meeting. The public is requested to dial *9\, when prompted by\nthe presiding officer\, to address the Board on any agenda item before the Board takes an action on an item.\nGENERAL PUBLIC COMMENT ON NON AGENDA ITEMS\nTHE AMERICAN WITH DISABILITIES ACT – As a covered entity under Title II of the Americans with Disabilities Act\, the\nCity of Los Angeles does not discriminate on the basis of disability and\, upon request\, will provide reasonable\naccommodation to ensure equal access to its programs\, services and activities. Sign language interpreters\, assistive\nlistening devices and other auxiliary aids and/or services\, may be provided upon request. To ensure availability of\nservices\, please make your request at least 3 business days (72 hours) prior to the meeting you wish to attend by\ncontacting the Department of Neighborhood Empowerment by email: NCSupport@lacity.org or phone: (213) 978-1551.\nPUBLIC ACCESS OF RECORDS – In compliance with Government Code section 54957.5\, non-exempt writings that are\ndistributed to a majority or all of the board in advance of a meeting may be viewed on our website at :\nwww.whcouncil.org or at the scheduled meeting. In addition\, if you would like a copy of any record related to an item\non the agenda\, please contact Joyce Fletcher at (818) 639-9444 or email: j.fletcher@whcouncil.org\nPUBLIC INPUT AT NEIGHBORHOOD COUNCIL MEETINGS – The public is requested dial *9\, when prompted by the\npresiding officer\, to address the Board on any agenda item before the Board takes an action on an item. Comments from\nthe public on agenda items will be heard only when the respective item is being considered. Comments from the public\non other matters not appearing on the agenda that are within the Board’s jurisdiction will be heard during the General\nPublic Comment period. Please note that under the Brown Act\, the Board is prevented from acting on a matter that\nyou bring to its attention during the General Public Comment period; however\, the issue raised by a member of the\npublic may become the subject of a future Board meeting. Public comment is limited to two minutes per speaker\, unless\nadjusted by the presiding officer of the Board.\nSERVICIOS DE TRADUCCIÓN – Si requiere servicios de traducción\, favor de avisar al Concejo Vecinal 3 días de trabajo (72 \nhoras) antes del evento. Por favor contacte a Joyce fletcher de la Mesa Directiva\, al j.fletcher@whcouncil.org o por\ncorreo electrónico avisar al Concejo Vecinal.\nNotice to Paid Representatives – If you are compensated to monitor\, attend\, or speak at this meeting\, City law may require you to register as a lobbyist and report your activity. See Los Angeles Municipal Code §§ 48.01 et seq. More information is available at ethics.lacity.org/lobbying. For assistance\, please contact the Ethics Commission at {213) 978-1960 or ethics.commission@lacity.org\nPUBLIC POSTING OF AGENDAS – Neighborhood Council agendas are posted for public review as follows:\n● Council website – www.whcouncil.org and go to the calendar page and click on the date\, then meeting and agenda\n● You can also receive our agendas via email by subscribing to L.A. City’s Early Notification System at https://www.lacity.org/subscriptions\nAGENDA\nCall to Order\nPledge of Allegiance\nRoll Call\nPublic Announcements – (2) minutes per speaker\nPublic Comment Period (on items not on the agenda): (2) minutes per speaker\n___________________________________________________________________________________________\nItems for discussion and possible action:\n1. Review Community Outreach Tri-Fold for approval. To be printed with credit at our printer\n2. Planning for 2020-2021 and possible future partnerships\, projects and NPG’s.\n3. Motion for Up to $1\,000 for a WHWCNC logo branded tent\n4. Motion for up to $500 for WHWCNC Keychain/Flashlights to be used in WHWCNC Outreach events\n5. Motion for up to $300 for WHWCNC Door Hangers to be used by the committees of the board\n6. Report on our current activities in the Community such as Concerts on the Green Movie Nights\n7. New Business\nAdjournment of meeting:\n*THE AMERICAN WITH DISABILITIES ACT – As a covered entity under Title II of the Americans with Disabilities Act\, the City of Los Angeles does not discriminate on the basis of disability and\, upon request\, will provide reasonable accommodation to ensure equal access to its programs\, services and activities. Sign language interpreters\, assistive listening devices and other auxiliary aids and/or services\, may be provided upon request. To ensure availability of services\, please make your request at least 3 business days (72 hours) prior to the meeting you wish to attend by contacting Joyce Fletcher\, at (818-340-6554 or email j.fletcher@whcouncil.org or the Department of Neighborhood Empowerment at (213) 978-1551 EmpowerLa@LACity.org\n*PUBLIC ACCESS OF RECORDS – In compliance with Government Code section 54957.5\, non-exempt writings that are distributed to a majority or all of the board in advance of a meeting may be viewed at our website:\nwww.whcouncil.org or at the scheduled meeting. In addition\, if you would like a copy of any record related to an item on the agenda\, please contact Joyce Fletcher at (818) 340-6554 or email j.fletcher@whcouncil.org\n*PUBLIC POSTING OF AGENDAS – agendas are posted for public review as follows:\n• www.whcouncil.org – go to the website Calendar page and click on the date – Board meetings are held on the second Wednesday of each month. Check the calendar for any change of meeting date.\n• You can also receive our agendas via email by subscribing to L.A. City’s Early Notification System at https://www.lacity.org/subscriptions\n*RECONSIDERATION AND GRIEVANCE PROCESS – For information on the WHWCNC process for board action reconsideration\, stakeholder grievance policy\, or any other procedural matters related to this Council\, please consult the WHWCNC Bylaws. The Bylaws are available at our Board meetings and our website at www.whcouncil.org \n 
URL:https://whcouncil.org/event/whwcnc-community-outreach-meeting-teleconference/
CATEGORIES:Community Outreach
ATTACH;FMTTYPE=image/jpeg:https://whcouncil.org/wp-content/uploads/2019/08/IMG_0673s.jpg
END:VEVENT
BEGIN:VEVENT
DTSTART;TZID=America/Los_Angeles:20200309T183000
DTEND;TZID=America/Los_Angeles:20200309T200000
DTSTAMP:20260424T040641
CREATED:20200306T184300Z
LAST-MODIFIED:20200306T184300Z
UID:10000806-1583778600-1583784000@whcouncil.org
SUMMARY:COMMUNITY OUTREACH MEETING
DESCRIPTION:WHWCNC COMMUNITY OUTREACH MEETING \nMonday March 9\, 2020 – 6:30 pm – 8:00 pm                                                                                                                            Woodland Hills Library (Second Floor) \n22200 Ventura Boulevard • Woodland Hills\, CA 91364 \nCllick For Agenda \nStakeholders and the public are permitted to address the Committee on any item on the Agenda prior to the Committee taking action on said item. It is requested speakers complete a “Speaker Card” and hand it to the Chair. Comments from Stakeholders and the Public on Agenda items will be heard only when the respective item is being considered. Comments within the Committee’s subject matter jurisdiction on other matters not appearing on the Agenda will be heard during the Public Comment period. Public Comment is limited to 20 minutes. Each speaker is limited to two minutes\, unless waived by the presiding officer of the Committee. \nOpinions\, positions or actions taken by the Woodland Hills-Warner Center Neighborhood Council do not represent or imply similar opinions held by the Owner\, Landlord\, L.A.U.S.D\, Business or representatives of any venue hosting a meeting of the Council Board\, or Committee. \n  \nAGENDA \n  \nCommittee Members:  Peter Fletcher\, Aaron Quantz\, Angela Dawson\, Tim Root\, and Karen Dibiase \n  \nCall to Order  \n\nRoll Call\nPublic Announcements\nPublic Comment Period\nApproval of Minutes\n\n  \n  \n  \nItems for discussion and possible vote: \n  \nItem no. (1) Peter Fletcher\, Chair \nCommunity Outreach Goals for 2020 \n  \nItem no. (2) Peter Fletcher\, Chair  \nOutreach Website Management \nDiscussion and possible action: \nAppointing additional Board Members to update the website and social media \nUpdating and adding stakeholder names to Constant Contact database-Karen \n  \nItem no. (3) Peter Fletcher\, Chair \nNewsletter 2020  \nDiscussion: \nWHWCNC Social Media Strategy. \nDesign of NC Tri-fold for upcoming year-review Angela’s design \nCatalog of NC social media assets. \nWHWCNC social media instructions for board members \n  \nItem no. (4) Peter Fletcher\, Chair \nDiscussion \nNC Audio Visual strategy-development of Facebook and Instagram stories-Tim Root \nFinding a graphic designer \n  \n  \n  \n  \n  \n  \n  \n  \nThe agenda may be revised prior to the meeting to add further items for discussion \n  \nAdjournment of meeting:  \n  \nDisabilities Act Notification:  \n  \nAs a covered entity under Title II of the Americans with Disabilities Act\, the City of Los Angeles does not discriminate on the basis of disability and upon request will provide reasonable accommodation to ensure equal access to its programs\, services and activities. Sign language interpreters\, assistive listening devices\, or other auxiliary aids and/or services may be provided upon request. To ensure availability of services\, please make your request at least three business days (72 hours) prior to the meeting you wish to attend by contacting the Department of Neighborhood Empowerment at (213) 978-1551  |EmpowerLA@LACity.org.  \nBrown Act Notification:  \nIn compliance with Government Code 54957.5\, non-exempt writings that are distributed to a majority or all of the board in advance of a meeting\, may be viewed at www.whcouncil.org.  \n 
URL:https://whcouncil.org/event/community-outreach-meeting-7/
LOCATION:Woodland Hills Public Library\, Upper Room\, 22200 Ventura Blvd.\, Woodland Hills\, CA\, 91364\, United States
CATEGORIES:Community Outreach
ATTACH;FMTTYPE=image/jpeg:https://whcouncil.org/wp-content/uploads/2019/08/IMG_0637s.jpg
GEO:34.1678825;-118.6106854
X-APPLE-STRUCTURED-LOCATION;VALUE=URI;X-ADDRESS=Woodland Hills Public Library Upper Room 22200 Ventura Blvd. Woodland Hills CA 91364 United States;X-APPLE-RADIUS=500;X-TITLE=22200 Ventura Blvd.:geo:-118.6106854,34.1678825
END:VEVENT
BEGIN:VEVENT
DTSTART;TZID=America/Los_Angeles:20200212T183000
DTEND;TZID=America/Los_Angeles:20200212T200000
DTSTAMP:20260424T040641
CREATED:20200209T195120Z
LAST-MODIFIED:20200209T195120Z
UID:10000785-1581532200-1581537600@whcouncil.org
SUMMARY:Community Outreach
DESCRIPTION:WHWCNC COMMUNITY OUTREACH MEETING\nWednesday February 12\, 2020 – 6:30 pm – 8:00 pm\nWoodland Hills Library (Second Floor)\n22200 Ventura Boulevard • Woodland Hills\, CA 91364 \nClick For Agenda \nStakeholders and the public are permitted to address the Committee on any item on the Agenda prior to the Committee taking action on said item. It is requested speakers complete a “Speaker Card” and hand it to the Chair. Comments from Stakeholders and the Public on Agenda items will be heard only when the respective item is being considered. Comments within the Committee’s subject matter jurisdiction on other matters not appearing on the Agenda will be heard during the Public Comment period. Public Comment is limited to 20 minutes. Each speaker is limited to two minutes\, unless waived by the presiding officer of the Committee. \nOpinions\, positions or actions taken by the Woodland Hills-Warner Center Neighborhood Council do not represent or imply similar opinions held by the Owner\, Landlord\, L.A.U.S.D\, Business or representatives of any venue hosting a meeting of the Council Board\, or Committee. \n  \nAGENDA \n  \nCommittee Members:  Peter Fletcher\, Aaron Quantz\, Angela Dawson\, Tim Root\, and Karen Dibiase \n  \nCall to Order  \n\nRoll Call\nPublic Announcements\nPublic Comment Period\nApproval of Minutes\n\n  \n  \n  \nItems for discussion and possible vote: \n  \nItem no. (1) Peter Fletcher\, Chair \nCommunity Outreach Goals for 2020 \n  \nItem no. (2) Peter Fletcher\, Chair  \nOutreach Website Management \nDiscussion and possible action: \nAppointing additional Board Members to update the website and social media \n  \nItem no. (3) Peter Fletcher\, Chair \nNewsletter 2020  \nDiscussion: \nWHWCNC Social Media Strategy. \nDesign of NC Tri-fold for upcoming year-review Angela’s design \nCatalog of NC social media assets. \nWHWCNC social media instructions for board members \n  \nItem no. (4) Peter Fletcher\, Chair \nDiscussion \nNC Audio Visual strategy-development of Facebook and Instagram stories-Tim Root \nFinding a graphic designer \n  \n  \n  \n  \n  \n  \n  \n  \nThe agenda may be revised prior to the meeting to add further items for discussion \n  \nAdjournment of meeting:  \n  \nDisabilities Act Notification:  \n  \nAs a covered entity under Title II of the Americans with Disabilities Act\, the City of Los Angeles does not discriminate on the basis of disability and upon request will provide reasonable accommodation to ensure equal access to its programs\, services and activities. Sign language interpreters\, assistive listening devices\, or other auxiliary aids and/or services may be provided upon request. To ensure availability of services\, please make your request at least three business days (72 hours) prior to the meeting you wish to attend by contacting the Department of Neighborhood Empowerment at (213) 978-1551  |EmpowerLA@LACity.org.  \nBrown Act Notification:  \nIn compliance with Government Code 54957.5\, non-exempt writings that are distributed to a majority or all of the board in advance of a meeting\, may be viewed at www.whcouncil.org.  \n 
URL:https://whcouncil.org/event/community-outreach-2/
LOCATION:Woodland Hills Public Library\, Upper Room\, 22200 Ventura Blvd.\, Woodland Hills\, CA\, 91364\, United States
CATEGORIES:Community Outreach
ATTACH;FMTTYPE=image/jpeg:https://whcouncil.org/wp-content/uploads/2019/08/IMG_3949-mbr-s.jpg
GEO:34.1678825;-118.6106854
X-APPLE-STRUCTURED-LOCATION;VALUE=URI;X-ADDRESS=Woodland Hills Public Library Upper Room 22200 Ventura Blvd. Woodland Hills CA 91364 United States;X-APPLE-RADIUS=500;X-TITLE=22200 Ventura Blvd.:geo:-118.6106854,34.1678825
END:VEVENT
END:VCALENDAR