BEGIN:VCALENDAR
VERSION:2.0
PRODID:-//Woodland Hills Warner - Center Neighborhood Council | Your most local part of CIty Government - ECPv6.15.20//NONSGML v1.0//EN
CALSCALE:GREGORIAN
METHOD:PUBLISH
X-ORIGINAL-URL:https://whcouncil.org
X-WR-CALDESC:Events for Woodland Hills Warner - Center Neighborhood Council | Your most local part of CIty Government
REFRESH-INTERVAL;VALUE=DURATION:PT1H
X-Robots-Tag:noindex
X-PUBLISHED-TTL:PT1H
BEGIN:VTIMEZONE
TZID:America/Los_Angeles
BEGIN:DAYLIGHT
TZOFFSETFROM:-0800
TZOFFSETTO:-0700
TZNAME:PDT
DTSTART:20220313T100000
END:DAYLIGHT
BEGIN:STANDARD
TZOFFSETFROM:-0700
TZOFFSETTO:-0800
TZNAME:PST
DTSTART:20221106T090000
END:STANDARD
BEGIN:DAYLIGHT
TZOFFSETFROM:-0800
TZOFFSETTO:-0700
TZNAME:PDT
DTSTART:20230312T100000
END:DAYLIGHT
BEGIN:STANDARD
TZOFFSETFROM:-0700
TZOFFSETTO:-0800
TZNAME:PST
DTSTART:20231105T090000
END:STANDARD
BEGIN:DAYLIGHT
TZOFFSETFROM:-0800
TZOFFSETTO:-0700
TZNAME:PDT
DTSTART:20240310T100000
END:DAYLIGHT
BEGIN:STANDARD
TZOFFSETFROM:-0700
TZOFFSETTO:-0800
TZNAME:PST
DTSTART:20241103T090000
END:STANDARD
BEGIN:DAYLIGHT
TZOFFSETFROM:-0800
TZOFFSETTO:-0700
TZNAME:PDT
DTSTART:20250309T100000
END:DAYLIGHT
BEGIN:STANDARD
TZOFFSETFROM:-0700
TZOFFSETTO:-0800
TZNAME:PST
DTSTART:20251102T090000
END:STANDARD
BEGIN:DAYLIGHT
TZOFFSETFROM:-0800
TZOFFSETTO:-0700
TZNAME:PDT
DTSTART:20260308T100000
END:DAYLIGHT
BEGIN:STANDARD
TZOFFSETFROM:-0700
TZOFFSETTO:-0800
TZNAME:PST
DTSTART:20261101T090000
END:STANDARD
END:VTIMEZONE
BEGIN:VEVENT
DTSTART;TZID=America/Los_Angeles:20250227T183000
DTEND;TZID=America/Los_Angeles:20250227T203000
DTSTAMP:20260423T222915
CREATED:20250225T010640Z
LAST-MODIFIED:20250225T010640Z
UID:10001486-1740681000-1740688200@whcouncil.org
SUMMARY:Budget Committee Meeting 2/27/25
DESCRIPTION:Special Budget Committee Meeting & Possible Quorum-Meeting of Full NC \nThursday\, February 27\, 2025 at 6:30 PM \nZoom Meeting Online or By Telephone \nPlease click the link below to join the webinar:\nhttps://us02web.zoom.us/j/84574801809  \nOr Dial (669) 900-6833 to Join the Meeting\nThen Enter This Webinar ID: 84574801809 and Press # \n  \nThe AGENDA can be downloaded HERE \nThe SUPPORTING DOCUMENTS can be downloaded HERE
URL:https://whcouncil.org/event/budget-committee-meeting-2-27-25/
LOCATION:ZOOM\, NONE\, NONE\, CA\, NONE\, United States
CATEGORIES:Budget
GEO:37.0982847;-122.0979399
X-APPLE-STRUCTURED-LOCATION;VALUE=URI;X-ADDRESS=ZOOM NONE NONE CA NONE United States;X-APPLE-RADIUS=500;X-TITLE=NONE:geo:-122.0979399,37.0982847
END:VEVENT
BEGIN:VEVENT
DTSTART;TZID=America/Los_Angeles:20231010T183000
DTEND;TZID=America/Los_Angeles:20231010T200000
DTSTAMP:20260423T222915
CREATED:20231009T044818Z
LAST-MODIFIED:20231010T182902Z
UID:10001328-1696962600-1696968000@whcouncil.org
SUMMARY:WHWCNC BUDGET COMMITTEE MEETING
DESCRIPTION:WOODLAND HILLS\nWARNER CENTER\nNEIGHBORHOOD\nCOUNCIL\nOct 10\, 2023 \nAgenda for\nSpecial Budget Committee Meeting\n& Possible Quorum-Meeting of Full NC\nWoodland Hills Library\nSecond Floor\n22200 Ventura Blvd\, Woodland Hills\, CA 91364\nTuesday October 10 \, 2023\n6:30PM to 7:50PM.\nSi requiere servicios de traducción\, favor de avisar al Concejo Vecinal 3 días de trabajo (72 horas) antes del evento. Por favor\ncontacte Karen DiaBiase\, Secretaria\, al 818-639-9444 o por correo electrónico www.whcouncil.org para avisar al Concejo Vecinal.\nComments from the public on other matters not appearing on the agenda that are within the Board’s jurisdiction will be heard\nduring the General Public Comment period. Please note that under the Brown Act\, the Board is prevented from acting on a\nmatter that you bring to its attention during the General Public Comment period; however\, the issue raised by a member of the\npublic may become the subject of a future Board meeting. Public comment is limited to 2 minutes per speaker\, unless adjusted\nby the presiding officer of the Committee .\nAll comment is limited to 2 minutes per speaker\, unless adjusted by the presiding chair of the committee.\n1. Call to Order. Roll call of members: Heath Kline\, Budget Committee Chair as NC Treasurer\, plus the Chair or Representative of each Committee\nof the Board (one role per person with the limitation of one vote per committee).\n2. Public Announcements by city officials and representatives: (2) minutes per speaker.\n3. Stakeholder Public Comment Period (on items NOT on the agenda within the purview of the committee).\n(1) minute per speaker.\nItems for discussion and possible action:\nStakeholder Public Comment will be taken on each agenda item: (2) minutes per speaker.\nItem (1):\nReview & discussion of last year’s adopted 2022-2023 FY budget & actual spending (attached)\nItem (2):\nReview & discussion of our adopted 2023-2024 FY current budget & YTD spending (attached)\nItem (3):\nBrief elevator presentations from each committee of the NC of what each committee sees as their\ngoals and their funding needs (what their committee will directly spend) if determined\, to accomplish\nthese goals\, and what they need from other committees or the entire NC\, to carry out their goals.\nOur Standing Committees are:\n• Budget & Finance Heath Kline\, Chair\n• Community Services Joyce Fletcher\, Chair\n• Education Julie Waltrip\, Chair\n• Environmental Sustainability and Beautification Karen DiBiase\, Chair\n• Governance\, Dena Weise\, Chair\,\n• Outreach Chris Waddy & Tracy Rosen\, Co-Chairs\n• PLUM Don Patterson & Marty Lipkin\, Co-Chairs\n• Public Health & Homelessness Reina Cerros-McCaughey\, Chair\n• Transportation & Public Safety Rachel Tabak\, Chair\n• WHIP August Steurer & Heath Kline\, Co-Chairs\nEach committee should be represented by one of its committee chairs (when there are co-chairs of the\ncommittee) or another member of the committee if a chair is unable to attend or has another role on the\nbudget committee to maximize participation\, points of view expressed\, and number of participants\nvoting.\nItem (4.):\nDiscussion and possible action:\nThe following action may be necessary to support expenditures that exceed the funds available in their\nproper budget category for pending expenditure item(s) should they be approved by the board.\nMotion to make a reallocation of funds assigned to budget categories that are:\n• Office/Operational Expenditures† $11\,901.46 unspent-available $9\,703\n† Note this budget category has future monthly reoccurring costs-obligations not reflected in the available funds\namount.\n• Outreach Expenditures $16\,050 unspent-available $15\,049.01\n• Election Expenditures $750 unspent-available $0\n• Neighborhood Purposes Grants (NPG) Expenditures $7\,700 unspent-available $7\,700\n• Community Improvement Projects (CIP) Expenditures $5\,000 unspent-available $5\,000\nSee Item (2.) FY2023-2024 budget attachment.\nRoll call vote. (if applicable).\nADJOURNMENT: The time\, date\, and location of the next Budget Committee meeting will be\nannounced. See Public Posting of Agendas section below.\nAs a covered entity under Title II of the Americans with Disabilities Act\, the City of Los\nAngeles does not discriminate on the basis of disability and upon request will provide reasonable accommodation to\nensure equal access to its programs\, services\, and activities. Sign language interpreters\, assistive listening devices\, or\nother auxiliary aids and/or services may be provided upon request. To ensure availability of services\, please make your\nrequest at least 3 business days (72 hours) prior to the meeting by contacting the Department of Neighborhood\nEmpowerment by calling (213) 978-1551 or email: NCsupport@lacity.org\nPublic Posting of Agendas –\nNeighborhood Council agendas are posted for public review as follows:\n● A copy of this agenda is also physically posted on the outside of the window of the West Valley Warner Center\nChamber located at 6100 Topanga Canyon Blvd\, Ste 2330\, Woodland Hills\, CA 91367. The Chamber is\nlocated at the Promenade Mall outside the east entrance of the mall and to the left of Ruth Chris Restaurant.\nThe Chamber office is accessed from Owensmouth Street. Parking is free.\n● www.whcouncil.org\n● You can also receive our agendas via email by subscribing to L.A. City’s Early Notification System (ENS)\nNotice to Paid Representatives –\nIf you are compensated to monitor\, attend\, or speak at this meeting\, City law may require you to register as a lobbyist and\nreport your activity. See Los Angeles Municipal Code Section 48.01 et seq. More information is available at\nethics.lacity.org/lobbying. For assistance\, please contact the Ethics Commission at (213) 978-1960 or\nethics.commission@lacity.org\nPublic Access of Records –\nIn compliance with Government Code section 54957.5\, non-exempt writings that are distributed to a majority or all of the\nboard in advance of a meeting may be viewed at our website: www.WHWCNC.org or at the scheduled meeting. In addition\,\nif you would like a copy of any record related to an item on the agenda\, please contact Dena Weiss at: d.weiss@whcouncil.org.\nReconsideration and Grievance Process –\nFor information on the NC’s process for board action reconsideration\, stakeholder grievance policy\, or any other procedural\nmatters related to this Council\, please consult the NC Bylaws. The Bylaws are available at our Board meetings and our\nwebsite.\nOffice/
URL:https://whcouncil.org/event/whwcnc-budget-committee-meeting-3/
LOCATION:Woodland Hills Public Library\, Upper Room\, 22200 Ventura Blvd.\, Woodland Hills\, CA\, 91364\, United States
CATEGORIES:Budget
GEO:34.1678825;-118.6106854
X-APPLE-STRUCTURED-LOCATION;VALUE=URI;X-ADDRESS=Woodland Hills Public Library Upper Room 22200 Ventura Blvd. Woodland Hills CA 91364 United States;X-APPLE-RADIUS=500;X-TITLE=22200 Ventura Blvd.:geo:-118.6106854,34.1678825
END:VEVENT
END:VCALENDAR