BEGIN:VCALENDAR
VERSION:2.0
PRODID:-//Woodland Hills Warner - Center Neighborhood Council | Your most local part of CIty Government - ECPv6.15.20//NONSGML v1.0//EN
CALSCALE:GREGORIAN
METHOD:PUBLISH
X-WR-CALNAME:Woodland Hills Warner - Center Neighborhood Council | Your most local part of CIty Government
X-ORIGINAL-URL:https://whcouncil.org
X-WR-CALDESC:Events for Woodland Hills Warner - Center Neighborhood Council | Your most local part of CIty Government
REFRESH-INTERVAL;VALUE=DURATION:PT1H
X-Robots-Tag:noindex
X-PUBLISHED-TTL:PT1H
BEGIN:VTIMEZONE
TZID:America/Los_Angeles
BEGIN:DAYLIGHT
TZOFFSETFROM:-0800
TZOFFSETTO:-0700
TZNAME:PDT
DTSTART:20240310T100000
END:DAYLIGHT
BEGIN:STANDARD
TZOFFSETFROM:-0700
TZOFFSETTO:-0800
TZNAME:PST
DTSTART:20241103T090000
END:STANDARD
BEGIN:DAYLIGHT
TZOFFSETFROM:-0800
TZOFFSETTO:-0700
TZNAME:PDT
DTSTART:20250309T100000
END:DAYLIGHT
BEGIN:STANDARD
TZOFFSETFROM:-0700
TZOFFSETTO:-0800
TZNAME:PST
DTSTART:20251102T090000
END:STANDARD
BEGIN:DAYLIGHT
TZOFFSETFROM:-0800
TZOFFSETTO:-0700
TZNAME:PDT
DTSTART:20260308T100000
END:DAYLIGHT
BEGIN:STANDARD
TZOFFSETFROM:-0700
TZOFFSETTO:-0800
TZNAME:PST
DTSTART:20261101T090000
END:STANDARD
END:VTIMEZONE
BEGIN:VEVENT
DTSTART;TZID=America/Los_Angeles:20250320T173500
DTEND;TZID=America/Los_Angeles:20250320T183000
DTSTAMP:20260425T211154
CREATED:20250319T030948Z
LAST-MODIFIED:20250319T215035Z
UID:10001498-1742492100-1742495400@whcouncil.org
SUMMARY:Arts & Culture Special Committee Meeting
DESCRIPTION:Please join us for our next Arts and Culture Special Committee meeting on Thursday\, March 20\, 2025 at 5:35 PM via Zoom. \nWoodland Hills – Warner Center NC is inviting you to a scheduled Zoom meeting. \nTopic: Arts & Culture Committee Meeting\nTime: Mar 20\, 2025\, 05:35 PM Pacific Time (US and Canada)\nJoin Zoom Meeting\nhttps://us02web.zoom.us/j/84617419135 \nMeeting ID: 846 1741 9135 \nAgenda: https://whcouncil.org/wp-content/uploads/minutes-agendas-newsletters/ArtsAgendas_2025-03-19.pdf \n  \n 
URL:https://whcouncil.org/event/arts-culture-committee-meeting-2/
CATEGORIES:Arts & Culture
END:VEVENT
END:VCALENDAR