BEGIN:VCALENDAR
VERSION:2.0
PRODID:-//Woodland Hills Warner - Center Neighborhood Council | Your most local part of CIty Government - ECPv6.15.20//NONSGML v1.0//EN
CALSCALE:GREGORIAN
METHOD:PUBLISH
X-ORIGINAL-URL:https://whcouncil.org
X-WR-CALDESC:Events for Woodland Hills Warner - Center Neighborhood Council | Your most local part of CIty Government
REFRESH-INTERVAL;VALUE=DURATION:PT1H
X-Robots-Tag:noindex
X-PUBLISHED-TTL:PT1H
BEGIN:VTIMEZONE
TZID:America/Los_Angeles
BEGIN:DAYLIGHT
TZOFFSETFROM:-0800
TZOFFSETTO:-0700
TZNAME:PDT
DTSTART:20240310T100000
END:DAYLIGHT
BEGIN:STANDARD
TZOFFSETFROM:-0700
TZOFFSETTO:-0800
TZNAME:PST
DTSTART:20241103T090000
END:STANDARD
BEGIN:DAYLIGHT
TZOFFSETFROM:-0800
TZOFFSETTO:-0700
TZNAME:PDT
DTSTART:20250309T100000
END:DAYLIGHT
BEGIN:STANDARD
TZOFFSETFROM:-0700
TZOFFSETTO:-0800
TZNAME:PST
DTSTART:20251102T090000
END:STANDARD
BEGIN:DAYLIGHT
TZOFFSETFROM:-0800
TZOFFSETTO:-0700
TZNAME:PDT
DTSTART:20260308T100000
END:DAYLIGHT
BEGIN:STANDARD
TZOFFSETFROM:-0700
TZOFFSETTO:-0800
TZNAME:PST
DTSTART:20261101T090000
END:STANDARD
END:VTIMEZONE
BEGIN:VEVENT
DTSTART;TZID=America/Los_Angeles:20250531T100000
DTEND;TZID=America/Los_Angeles:20250531T120000
DTSTAMP:20260424T085537
CREATED:20250530T180618Z
LAST-MODIFIED:20250530T180618Z
UID:10001513-1748685600-1748692800@whcouncil.org
SUMMARY:South Valley Town Hall 5/31/2025
DESCRIPTION:Board of Neighborhood Commissioners Vice President\, Len Shaffer\, would like to invite your NC Board to attend and participate in the South Valley Town Hall on Saturday\, May 31\, 2025\, from 10:00 am to 1:00 pm. The town hall will occur in person at the Encino Community Center (4935 Balboa Blvd.\, Encino\, CA 91316). \n  \nMembers of the Woodland Hills – Warner Center Neighborhood Councill are planning to be in attendance. \n  \nThe agenda can be downloaded HERE
URL:https://whcouncil.org/event/south-valley-town-hall-5-31-2025/
LOCATION:CA
CATEGORIES:Community
END:VEVENT
END:VCALENDAR