BEGIN:VCALENDAR
VERSION:2.0
PRODID:-//Woodland Hills Warner - Center Neighborhood Council | Your most local part of CIty Government - ECPv6.15.20//NONSGML v1.0//EN
CALSCALE:GREGORIAN
METHOD:PUBLISH
X-WR-CALNAME:Woodland Hills Warner - Center Neighborhood Council | Your most local part of CIty Government
X-ORIGINAL-URL:https://whcouncil.org
X-WR-CALDESC:Events for Woodland Hills Warner - Center Neighborhood Council | Your most local part of CIty Government
REFRESH-INTERVAL;VALUE=DURATION:PT1H
X-Robots-Tag:noindex
X-PUBLISHED-TTL:PT1H
BEGIN:VTIMEZONE
TZID:America/Los_Angeles
BEGIN:DAYLIGHT
TZOFFSETFROM:-0800
TZOFFSETTO:-0700
TZNAME:PDT
DTSTART:20230312T100000
END:DAYLIGHT
BEGIN:STANDARD
TZOFFSETFROM:-0700
TZOFFSETTO:-0800
TZNAME:PST
DTSTART:20231105T090000
END:STANDARD
BEGIN:DAYLIGHT
TZOFFSETFROM:-0800
TZOFFSETTO:-0700
TZNAME:PDT
DTSTART:20240310T100000
END:DAYLIGHT
BEGIN:STANDARD
TZOFFSETFROM:-0700
TZOFFSETTO:-0800
TZNAME:PST
DTSTART:20241103T090000
END:STANDARD
BEGIN:DAYLIGHT
TZOFFSETFROM:-0800
TZOFFSETTO:-0700
TZNAME:PDT
DTSTART:20250309T100000
END:DAYLIGHT
BEGIN:STANDARD
TZOFFSETFROM:-0700
TZOFFSETTO:-0800
TZNAME:PST
DTSTART:20251102T090000
END:STANDARD
END:VTIMEZONE
BEGIN:VEVENT
DTSTART;TZID=America/Los_Angeles:20240803T080000
DTEND;TZID=America/Los_Angeles:20240803T100000
DTSTAMP:20260425T072152
CREATED:20240801T230407Z
LAST-MODIFIED:20240801T230407Z
UID:10001429-1722672000-1722679200@whcouncil.org
SUMMARY:1st Saturday Clean-Up  8/3/24
DESCRIPTION:Volunteers Needed!\n\n\n \n\n\nPlease join us for the Woodland Hills – Warner Center Neighborhood Council’s First Saturday Cleanup on Aug 3rd\, from 8am-10am. \n\n\n \n\n\nWe will meet in the Metro parking lot\, at the corner of Winnetka and Victory to clear the weeds and trim trees next to the parking lot
URL:https://whcouncil.org/event/1st-saturday-clean-up-8-3-24/
LOCATION:CA
CATEGORIES:Community,Environment & Beautification
ATTACH;FMTTYPE=image/jpeg:https://whcouncil.org/wp-content/uploads/2024/08/1st-Saturdays-3.jpg
END:VEVENT
END:VCALENDAR