BEGIN:VCALENDAR
VERSION:2.0
PRODID:-//Woodland Hills Warner - Center Neighborhood Council | Your most local part of CIty Government - ECPv6.15.20//NONSGML v1.0//EN
CALSCALE:GREGORIAN
METHOD:PUBLISH
X-ORIGINAL-URL:https://whcouncil.org
X-WR-CALDESC:Events for Woodland Hills Warner - Center Neighborhood Council | Your most local part of CIty Government
REFRESH-INTERVAL;VALUE=DURATION:PT1H
X-Robots-Tag:noindex
X-PUBLISHED-TTL:PT1H
BEGIN:VTIMEZONE
TZID:America/Los_Angeles
BEGIN:DAYLIGHT
TZOFFSETFROM:-0800
TZOFFSETTO:-0700
TZNAME:PDT
DTSTART:20220313T100000
END:DAYLIGHT
BEGIN:STANDARD
TZOFFSETFROM:-0700
TZOFFSETTO:-0800
TZNAME:PST
DTSTART:20221106T090000
END:STANDARD
BEGIN:DAYLIGHT
TZOFFSETFROM:-0800
TZOFFSETTO:-0700
TZNAME:PDT
DTSTART:20230312T100000
END:DAYLIGHT
BEGIN:STANDARD
TZOFFSETFROM:-0700
TZOFFSETTO:-0800
TZNAME:PST
DTSTART:20231105T090000
END:STANDARD
BEGIN:DAYLIGHT
TZOFFSETFROM:-0800
TZOFFSETTO:-0700
TZNAME:PDT
DTSTART:20240310T100000
END:DAYLIGHT
BEGIN:STANDARD
TZOFFSETFROM:-0700
TZOFFSETTO:-0800
TZNAME:PST
DTSTART:20241103T090000
END:STANDARD
END:VTIMEZONE
BEGIN:VEVENT
DTSTART;TZID=America/Los_Angeles:20231202T080000
DTEND;TZID=America/Los_Angeles:20231202T110000
DTSTAMP:20260425T193930
CREATED:20231019T000156Z
LAST-MODIFIED:20231201T223159Z
UID:10001083-1701504000-1701514800@whcouncil.org
SUMMARY:First Saturdays Clean-Up
DESCRIPTION:Our next First Saturdays neighborhood clean-up will be on Saturday\, December 2nd at approximately 8am in the Candy Cane Lane neighborhood. \n\nCandy Cane Lane area needs a little community help from the Neighborhood Council.\n\n\n\nLet’s meet at the corner of Winnetka Ave/Martha St. (next to the freeway). We can start at the corner with picking up the trash and then work our way down Martha St. towards Corbin St. There are some leaves piled near the drains that should be picked up before any rain comes.\n\n\nPlease bring water\, gloves\, and a can-do attitude. Rakes and bags to be provided.\n8am-11am\n\nFor more information\, please email Karen DiBiase at k.dibiase@whcouncil.org
URL:https://whcouncil.org/event/first-saturdays-clean-up/
LOCATION:CA
CATEGORIES:Community,Environment & Beautification
END:VEVENT
END:VCALENDAR