BEGIN:VCALENDAR
VERSION:2.0
PRODID:-//Woodland Hills Warner - Center Neighborhood Council | Your most local part of CIty Government - ECPv6.15.20//NONSGML v1.0//EN
CALSCALE:GREGORIAN
METHOD:PUBLISH
X-ORIGINAL-URL:https://whcouncil.org
X-WR-CALDESC:Events for Woodland Hills Warner - Center Neighborhood Council | Your most local part of CIty Government
REFRESH-INTERVAL;VALUE=DURATION:PT1H
X-Robots-Tag:noindex
X-PUBLISHED-TTL:PT1H
BEGIN:VTIMEZONE
TZID:America/Los_Angeles
BEGIN:DAYLIGHT
TZOFFSETFROM:-0800
TZOFFSETTO:-0700
TZNAME:PDT
DTSTART:20220313T100000
END:DAYLIGHT
BEGIN:STANDARD
TZOFFSETFROM:-0700
TZOFFSETTO:-0800
TZNAME:PST
DTSTART:20221106T090000
END:STANDARD
BEGIN:DAYLIGHT
TZOFFSETFROM:-0800
TZOFFSETTO:-0700
TZNAME:PDT
DTSTART:20230312T100000
END:DAYLIGHT
BEGIN:STANDARD
TZOFFSETFROM:-0700
TZOFFSETTO:-0800
TZNAME:PST
DTSTART:20231105T090000
END:STANDARD
BEGIN:DAYLIGHT
TZOFFSETFROM:-0800
TZOFFSETTO:-0700
TZNAME:PDT
DTSTART:20240310T100000
END:DAYLIGHT
BEGIN:STANDARD
TZOFFSETFROM:-0700
TZOFFSETTO:-0800
TZNAME:PST
DTSTART:20241103T090000
END:STANDARD
END:VTIMEZONE
BEGIN:VEVENT
DTSTART;TZID=America/Los_Angeles:20231017T180000
DTEND;TZID=America/Los_Angeles:20231017T200000
DTSTAMP:20260425T193826
CREATED:20230926T002647Z
LAST-MODIFIED:20230926T002647Z
UID:10001322-1697565600-1697572800@whcouncil.org
SUMMARY:Sepulveda Basin Community Plan
DESCRIPTION:Join us for a Community Meeting In Person or Virtual \non October 17 and 18! \nThe City of Los Angeles Bureau of Engineering\, in partnership with Council Districts 2\, 3\, 4 and 6\, the Office of the Mayor and multiple federal\, state and local partners\, invites you to the upcoming Community Meetings for the Sepulveda Basin Vision Plan in-person on Tuesday October 17th and virtual on Wednesday October 18th. \nBoth meetings will include an update on the Vision Plan and a presentation on the draft plan for the future of the Basin. The in-person meeting will include an interactive open house where you’ll be able to ask questions directly with project team members. We want your feedback as we propose enhancements for the Sepulveda Basin. \nIn Person \nDate: October 17\, 2023 \nTime: 6:00 pm to 8:00 pm \nLocation: Encino Community Center 4935 Balboa Blvd\, Encino\, CA 91316 \nFormat: Presentation followed by an open house \nVirtual \nDate: October 18\, 2023 \nTime: 11:30 am to 1:00 pm \nLocation: Zoom bit.ly/sbvpcm3 \nFormat: Presentation and moderated Q&A \nRSVP at bit.ly/cm3sbvp. The RSVP is not required\, but helps us better accommodate everyone. \nThese community meetings are a series of meetings\, workshops\, and events meant to gather ideas and feedback from the communities surrounding the Sepulveda Basin\, the greater Valley community\, and region. \nYour participation in this process is essential to achieving a unified vision for this important public space. We hope you can join us!
URL:https://whcouncil.org/event/sepulveda-basin-community-plan/2023-10-17/
LOCATION:CA
CATEGORIES:Community
END:VEVENT
BEGIN:VEVENT
DTSTART;TZID=America/Los_Angeles:20231018T113000
DTEND;TZID=America/Los_Angeles:20231018T130000
DTSTAMP:20260425T193826
CREATED:20230926T002647Z
LAST-MODIFIED:20230926T002647Z
UID:10001323-1697628600-1697634000@whcouncil.org
SUMMARY:Sepulveda Basin Community Plan
DESCRIPTION:Join us for a Community Meeting In Person or Virtual \non October 17 and 18! \nThe City of Los Angeles Bureau of Engineering\, in partnership with Council Districts 2\, 3\, 4 and 6\, the Office of the Mayor and multiple federal\, state and local partners\, invites you to the upcoming Community Meetings for the Sepulveda Basin Vision Plan in-person on Tuesday October 17th and virtual on Wednesday October 18th. \nBoth meetings will include an update on the Vision Plan and a presentation on the draft plan for the future of the Basin. The in-person meeting will include an interactive open house where you’ll be able to ask questions directly with project team members. We want your feedback as we propose enhancements for the Sepulveda Basin. \nIn Person \nDate: October 17\, 2023 \nTime: 6:00 pm to 8:00 pm \nLocation: Encino Community Center 4935 Balboa Blvd\, Encino\, CA 91316 \nFormat: Presentation followed by an open house \nVirtual \nDate: October 18\, 2023 \nTime: 11:30 am to 1:00 pm \nLocation: Zoom bit.ly/sbvpcm3 \nFormat: Presentation and moderated Q&A \nRSVP at bit.ly/cm3sbvp. The RSVP is not required\, but helps us better accommodate everyone. \nThese community meetings are a series of meetings\, workshops\, and events meant to gather ideas and feedback from the communities surrounding the Sepulveda Basin\, the greater Valley community\, and region. \nYour participation in this process is essential to achieving a unified vision for this important public space. We hope you can join us!
URL:https://whcouncil.org/event/sepulveda-basin-community-plan/2023-10-18/
LOCATION:CA
CATEGORIES:Community
END:VEVENT
END:VCALENDAR