BEGIN:VCALENDAR
VERSION:2.0
PRODID:-//Woodland Hills Warner - Center Neighborhood Council | Your most local part of CIty Government - ECPv6.15.20//NONSGML v1.0//EN
CALSCALE:GREGORIAN
METHOD:PUBLISH
X-ORIGINAL-URL:https://whcouncil.org
X-WR-CALDESC:Events for Woodland Hills Warner - Center Neighborhood Council | Your most local part of CIty Government
REFRESH-INTERVAL;VALUE=DURATION:PT1H
X-Robots-Tag:noindex
X-PUBLISHED-TTL:PT1H
BEGIN:VTIMEZONE
TZID:America/Los_Angeles
BEGIN:DAYLIGHT
TZOFFSETFROM:-0800
TZOFFSETTO:-0700
TZNAME:PDT
DTSTART:20190310T100000
END:DAYLIGHT
BEGIN:STANDARD
TZOFFSETFROM:-0700
TZOFFSETTO:-0800
TZNAME:PST
DTSTART:20191103T090000
END:STANDARD
BEGIN:DAYLIGHT
TZOFFSETFROM:-0800
TZOFFSETTO:-0700
TZNAME:PDT
DTSTART:20200308T100000
END:DAYLIGHT
BEGIN:STANDARD
TZOFFSETFROM:-0700
TZOFFSETTO:-0800
TZNAME:PST
DTSTART:20201101T090000
END:STANDARD
BEGIN:DAYLIGHT
TZOFFSETFROM:-0800
TZOFFSETTO:-0700
TZNAME:PDT
DTSTART:20210314T100000
END:DAYLIGHT
BEGIN:STANDARD
TZOFFSETFROM:-0700
TZOFFSETTO:-0800
TZNAME:PST
DTSTART:20211107T090000
END:STANDARD
BEGIN:DAYLIGHT
TZOFFSETFROM:-0800
TZOFFSETTO:-0700
TZNAME:PDT
DTSTART:20220313T100000
END:DAYLIGHT
BEGIN:STANDARD
TZOFFSETFROM:-0700
TZOFFSETTO:-0800
TZNAME:PST
DTSTART:20221106T090000
END:STANDARD
BEGIN:DAYLIGHT
TZOFFSETFROM:-0800
TZOFFSETTO:-0700
TZNAME:PDT
DTSTART:20230312T100000
END:DAYLIGHT
BEGIN:STANDARD
TZOFFSETFROM:-0700
TZOFFSETTO:-0800
TZNAME:PST
DTSTART:20231105T090000
END:STANDARD
BEGIN:DAYLIGHT
TZOFFSETFROM:-0800
TZOFFSETTO:-0700
TZNAME:PDT
DTSTART:20240310T100000
END:DAYLIGHT
BEGIN:STANDARD
TZOFFSETFROM:-0700
TZOFFSETTO:-0800
TZNAME:PST
DTSTART:20241103T090000
END:STANDARD
END:VTIMEZONE
BEGIN:VEVENT
DTSTART;TZID=America/Los_Angeles:20231102T180000
DTEND;TZID=America/Los_Angeles:20231102T190000
DTSTAMP:20260423T142115
CREATED:20231027T234146Z
LAST-MODIFIED:20231027T234146Z
UID:10001087-1698948000-1698951600@whcouncil.org
SUMMARY:Share your thoughts about walking & driving at night to make our streets safer
DESCRIPTION:Toole Design will be holding up to six conversations with Los Angeles-area residents on Thursday and Friday (November 2-3) to learn about the behaviors and experiences of people walking and driving at night. This work is part of a study funded by the National Cooperative Highway Research Program (NCHRP) and will serve to educate transportation professionals across the country in making our streets safer for all users. \n  \nThey would love to learn about your experience! As a “thank you” for participating\, each participant will receive a $40 Visa gift card and (if they attend an in-person meeting) refreshments. The conversations will be held on the following dates/times: \n  \n·        Thursday\, November 2\, 2023 \no   Noon – 1:30pm (VIRTUAL!) \no   3:30-5pm (VIRTUAL) \no   6:00 -7:00 pm (Woodland Hills Library) \n  \n·        Friday\, November 3\, 2023 \no   9:30-11am (South LA Cafe) \no   11:30am – 1pm (South LA Cafe) \no   Noon – 1:30pm (VIRTUAL!) \n  \nIf you’re interested\, fill out this quick survey ASAP. Or\, if that’s too much\, just email sschooley@tooledesign.com with what time works best for you.
URL:https://whcouncil.org/event/share-your-thoughts-about-walking-driving-at-night-to-make-our-streets-safer/
LOCATION:Woodland Hills Public Library\, Upper Room\, 22200 Ventura Blvd.\, Woodland Hills\, CA\, 91364\, United States
CATEGORIES:City Planning,Community
GEO:34.1678825;-118.6106854
X-APPLE-STRUCTURED-LOCATION;VALUE=URI;X-ADDRESS=Woodland Hills Public Library Upper Room 22200 Ventura Blvd. Woodland Hills CA 91364 United States;X-APPLE-RADIUS=500;X-TITLE=22200 Ventura Blvd.:geo:-118.6106854,34.1678825
END:VEVENT
BEGIN:VEVENT
DTSTART;TZID=America/Los_Angeles:20210422T183000
DTEND;TZID=America/Los_Angeles:20210422T213000
DTSTAMP:20260423T142115
CREATED:20210416T001213Z
LAST-MODIFIED:20250708T165603Z
UID:10000974-1619116200-1619127000@whcouncil.org
SUMMARY:Community Plan Update Briefing for Woodland Hills
DESCRIPTION:Community Planners to Update Woodland Hills\non the Status of their work on the Community Plan\nYour opportunity to listen and respond to Andy Rodriguez and Lucy Martinez\nof the Valley Planning Bureau.  April 22nd @ 6:30p Via Zoom Webinar\n\nEvery person wishing to address the NC Committee must either dial +1 669 900 6833 or go online via Zoom\, and enter Zoom Webinar ID No. 839 2240 5678 to join or\, if joining telephonically\, press # to join the meeting. Instructions on how to sign up for public comment will be given to listeners at the start of the meeting. When calling-in telephonically\, the public is requested to dial *9\, when prompted by the presiding officer\, to address the Committee on any agenda item before the Board takes an action on an item. Zoom users should use the “raise hand” feature. \nFinding and moving to a community where you feel at home and it matches the vision you feel it should be is hard. And when you do find that place like Woodland Hills\, then you don’t want to worry about how your community might change so that it no longer fits your needs. \nWhy should you have to worry? Can’t there be a way for you to know how your community will grow and how it might change? \nThe Importance of a Community Plan\nA well-crafted Community Plan will direct the development of the community to get the right changes that the community wants. Community members will enjoy their neighborhoods more when the community develops they way they envisioned. \nOur Community Plan needs a refresh to adapt to new needs\, preserve what we like\, and direct future development to benefit the community. Community Planners started working on this several years ago\, but their work is not finished. \nWhere are We on the Pathway to the New Community Plan\nAt this event Community Planners will present their process and where they are on the path to having a new Community Plan for Canoga Park\, Winnetka\, West Hills and Woodland Hills. Discussions will focus on Woodland Hills. This event is where Woodland Hills has the opportunity to respond to preliminary concepts\, policies and goals envisioned for the new Community Plan. \nJoin Us Because\, Your Presence is Important\nWithout your participation\, Planners are not able to know what your vision is for the future of Woodland Hills in the future. They want to inform you and then hear from you. You will possibly determine important aspects of the community’s development. Let them know what’s important to you and what you feel is mistaken. \nWhat they will try to cover: (estimated 30 to 45 minutes)\n\nAn Introduction to orient people new to this process\n\nThe General Plan vs the Community Plan\nIntroduction to The New Zoning Code\nStatus of the Southwest Valley Community Plans\nOverview of Woodland Hills Land Use in the General Plan\nRelationships of the 4 Specific Plans in Woodland Hills to the Community Planning\nReview of Woodland Hills Areas and Implementation of the New Zoning Code\n\nDiscussion Time\nTime for getting some answers and responding to what the Planners have presented. Public discussion will be moderated by the Neighborhood Council. \nClick to go to the Southwest Vally Community Plan Update Website\nThis event is Not a Board Meeting although Board Members may attend. No  Board Meeting or Actions will occur. \nPublic and Board Members must be civil or they may be removed from the meeting. \nClick  for Agenda PDF for Community Plan Forum \n  \n 
URL:https://whcouncil.org/event/community-plan-update-briefing-for-woodland-hills-4-22-2021/
LOCATION:CA
CATEGORIES:City Planning,Community,Council Meetings,WHIP
END:VEVENT
BEGIN:VEVENT
DTSTART;TZID=America/Los_Angeles:20200220T160000
DTEND;TZID=America/Los_Angeles:20200220T200000
DTSTAMP:20260423T142115
CREATED:20200130T060145Z
LAST-MODIFIED:20200130T062414Z
UID:10000779-1582214400-1582228800@whcouncil.org
SUMMARY:Ventura-Cahuenga Boulevard Corridor Specific Plan Amendment Open House
DESCRIPTION:
URL:https://whcouncil.org/event/ventura-cahuenga-boulevard-corridor-specific-plan-amendment-open-house/
LOCATION:CA
CATEGORIES:City Planning
ATTACH;FMTTYPE=image/jpeg:https://whcouncil.org/wp-content/uploads/2020/01/VenturaBlvd_SP_Flyer-scaled.jpg
END:VEVENT
END:VCALENDAR